Package: metapone Version: 1.10.0 Command: rm -rf metapone.buildbin-libdir && mkdir metapone.buildbin-libdir && E:\biocbuild\bbs-3.19-bioc\R\bin\R.exe CMD INSTALL --build --library=metapone.buildbin-libdir metapone_1.10.0.tar.gz StartedAt: 2024-10-17 08:06:42 -0400 (Thu, 17 Oct 2024) EndedAt: 2024-10-17 08:07:01 -0400 (Thu, 17 Oct 2024) EllapsedTime: 19.0 seconds RetCode: 0 Status: OK PackageFile: metapone_1.10.0.zip PackageFileSize: 3.752 MiB