Package: metapone Version: 1.10.0 Command: /home/biocbuild/bbs-3.19-bioc/R/bin/R CMD build --keep-empty-dirs --no-resave-data metapone StartedAt: 2024-10-16 19:22:17 -0400 (Wed, 16 Oct 2024) EndedAt: 2024-10-16 19:32:07 -0400 (Wed, 16 Oct 2024) EllapsedTime: 590.0 seconds RetCode: 0 Status: OK PackageFile: metapone_1.10.0.tar.gz PackageFileSize: 3.73 MiB