Package: metapone Version: 1.10.0 Command: /Library/Frameworks/R.framework/Resources/bin/R CMD INSTALL metapone StartedAt: 2024-10-16 16:15:44 -0400 (Wed, 16 Oct 2024) EndedAt: 2024-10-16 16:16:22 -0400 (Wed, 16 Oct 2024) EllapsedTime: 37.5 seconds RetCode: 0 Status: OK