Package: metapone Version: 1.10.0 Command: /Library/Frameworks/R.framework/Resources/bin/R CMD check --install=check:metapone.install-out.txt --library=/Library/Frameworks/R.framework/Resources/library --no-vignettes --timings metapone_1.10.0.tar.gz StartedAt: 2024-10-17 08:12:13 -0400 (Thu, 17 Oct 2024) EndedAt: 2024-10-17 08:20:39 -0400 (Thu, 17 Oct 2024) EllapsedTime: 506.4 seconds RetCode: 0 Status: OK CheckDir: metapone.Rcheck Warnings: 0