Package: metapone Version: 1.10.0 Command: /Library/Frameworks/R.framework/Resources/bin/R CMD build --keep-empty-dirs --no-resave-data metapone StartedAt: 2024-10-16 20:41:22 -0400 (Wed, 16 Oct 2024) EndedAt: 2024-10-16 21:10:34 -0400 (Wed, 16 Oct 2024) EllapsedTime: 1751.4 seconds RetCode: 0 Status: OK PackageFile: metapone_1.10.0.tar.gz PackageFileSize: 3.746 MiB