Package: metapone Version: 1.10.0 Command: /home/biocbuild/R/R-beta-2024-04-15_r86425/bin/R CMD check --install=check:metapone.install-out.txt --library=/home/biocbuild/R/R-beta-2024-04-15_r86425/site-library --no-vignettes --timings metapone_1.10.0.tar.gz StartedAt: 2024-05-09 09:12:06 -0000 (Thu, 09 May 2024) EndedAt: 2024-05-09 09:16:21 -0000 (Thu, 09 May 2024) EllapsedTime: 254.4 seconds RetCode: 0 Status: OK CheckDir: metapone.Rcheck Warnings: 0