Package: metapone Version: 1.10.0 Command: /Library/Frameworks/R.framework/Resources/bin/R CMD check --install=check:metapone.install-out.txt --library=/Library/Frameworks/R.framework/Resources/library --no-vignettes --timings metapone_1.10.0.tar.gz StartedAt: 2024-06-10 21:17:40 -0400 (Mon, 10 Jun 2024) EndedAt: 2024-06-10 21:23:25 -0400 (Mon, 10 Jun 2024) EllapsedTime: 345.1 seconds RetCode: 0 Status: OK CheckDir: metapone.Rcheck Warnings: 0