Package: metapone Version: 1.10.0 Command: /Library/Frameworks/R.framework/Resources/bin/R CMD INSTALL metapone StartedAt: 2024-10-16 17:49:52 -0400 (Wed, 16 Oct 2024) EndedAt: 2024-10-16 17:50:12 -0400 (Wed, 16 Oct 2024) EllapsedTime: 20.0 seconds RetCode: 0 Status: OK