Package: metapone Version: 1.10.0 Command: rm -rf metapone.buildbin-libdir && mkdir metapone.buildbin-libdir && /Users/biocbuild/BBS/utils/build-universal.sh metapone_1.10.0.tar.gz /Library/Frameworks/R.framework/Resources/bin/R metapone.buildbin-libdir StartedAt: 2024-10-18 19:20:37 -0400 (Fri, 18 Oct 2024) EndedAt: 2024-10-18 19:20:53 -0400 (Fri, 18 Oct 2024) EllapsedTime: 15.9 seconds RetCode: 0 Status: OK PackageFile: metapone_1.10.0.tgz PackageFileSize: 3.801 MiB