Package: metapod Version: 1.12.0 Command: E:\biocbuild\bbs-3.19-bioc\R\bin\R.exe CMD check --no-multiarch --install=check:metapod.install-out.txt --library=E:\biocbuild\bbs-3.19-bioc\R\library --no-vignettes --timings metapod_1.12.0.tar.gz StartedAt: 2024-10-17 03:07:06 -0400 (Thu, 17 Oct 2024) EndedAt: 2024-10-17 03:08:06 -0400 (Thu, 17 Oct 2024) EllapsedTime: 60.2 seconds RetCode: 0 Status: OK CheckDir: metapod.Rcheck Warnings: 0