Package: metapod Version: 1.12.0 Command: chmod a+r metapod -R && F:\biocbuild\bbs-3.19-bioc\R\bin\R.exe CMD build --keep-empty-dirs --no-resave-data metapod StartedAt: 2024-06-26 19:56:12 -0400 (Wed, 26 Jun 2024) EndedAt: 2024-06-26 19:57:00 -0400 (Wed, 26 Jun 2024) EllapsedTime: 47.6 seconds RetCode: 0 Status: OK PackageFile: metapod_1.12.0.tar.gz PackageFileSize: 323.7 KiB