Package: metapod Version: 1.12.0 Command: rm -rf metapod.buildbin-libdir && mkdir metapod.buildbin-libdir && F:\biocbuild\bbs-3.19-bioc\R\bin\R.exe CMD INSTALL --build --library=metapod.buildbin-libdir metapod_1.12.0.tar.gz StartedAt: 2024-06-27 08:28:53 -0400 (Thu, 27 Jun 2024) EndedAt: 2024-06-27 08:29:36 -0400 (Thu, 27 Jun 2024) EllapsedTime: 43.5 seconds RetCode: 0 Status: OK PackageFile: metapod_1.12.0.zip PackageFileSize: 822.8 KiB