Package: metapod Version: 1.12.0 Command: rm -rf metapod.buildbin-libdir && mkdir metapod.buildbin-libdir && /Users/biocbuild/BBS/utils/build-universal.sh metapod_1.12.0.tar.gz /Library/Frameworks/R.framework/Resources/bin/R metapod.buildbin-libdir StartedAt: 2024-06-11 11:58:20 -0400 (Tue, 11 Jun 2024) EndedAt: 2024-06-11 11:59:07 -0400 (Tue, 11 Jun 2024) EllapsedTime: 47.0 seconds RetCode: 0 Status: OK PackageFile: metapod_1.12.0.tgz PackageFileSize: 482.6 KiB