Package: metapod Version: 1.12.0 Command: /Library/Frameworks/R.framework/Resources/bin/R CMD build --keep-empty-dirs --no-resave-data metapod StartedAt: 2024-10-17 03:52:04 -0400 (Thu, 17 Oct 2024) EndedAt: 2024-10-17 03:52:32 -0400 (Thu, 17 Oct 2024) EllapsedTime: 28.2 seconds RetCode: 0 Status: OK PackageFile: metapod_1.12.0.tar.gz PackageFileSize: 323.5 KiB