Package: metahdep Version: 1.62.0 Command: E:\biocbuild\bbs-3.19-bioc\R\bin\R.exe CMD INSTALL metahdep StartedAt: 2024-10-16 15:58:29 -0400 (Wed, 16 Oct 2024) EndedAt: 2024-10-16 15:58:43 -0400 (Wed, 16 Oct 2024) EllapsedTime: 13.9 seconds RetCode: 0 Status: OK