Package: metahdep Version: 1.62.0 Command: E:\biocbuild\bbs-3.19-bioc\R\bin\R.exe CMD check --no-multiarch --install=check:metahdep.install-out.txt --library=E:\biocbuild\bbs-3.19-bioc\R\library --no-vignettes --timings metahdep_1.62.0.tar.gz StartedAt: 2024-10-17 03:06:10 -0400 (Thu, 17 Oct 2024) EndedAt: 2024-10-17 03:06:47 -0400 (Thu, 17 Oct 2024) EllapsedTime: 37.6 seconds RetCode: 0 Status: WARNINGS CheckDir: metahdep.Rcheck Warnings: 1