Package: metahdep Version: 1.62.0 Command: chmod a+r metahdep -R && E:\biocbuild\bbs-3.19-bioc\R\bin\R.exe CMD build --keep-empty-dirs --no-resave-data metahdep StartedAt: 2024-10-16 20:10:50 -0400 (Wed, 16 Oct 2024) EndedAt: 2024-10-16 20:11:06 -0400 (Wed, 16 Oct 2024) EllapsedTime: 16.6 seconds RetCode: 0 Status: OK PackageFile: metahdep_1.62.0.tar.gz PackageFileSize: 446 KiB