Package: metahdep Version: 1.62.0 Command: /Library/Frameworks/R.framework/Resources/bin/R CMD check --install=check:metahdep.install-out.txt --library=/Library/Frameworks/R.framework/Resources/library --no-vignettes --timings metahdep_1.62.0.tar.gz StartedAt: 2024-10-17 08:06:45 -0400 (Thu, 17 Oct 2024) EndedAt: 2024-10-17 08:12:41 -0400 (Thu, 17 Oct 2024) EllapsedTime: 356.4 seconds RetCode: 0 Status: WARNINGS CheckDir: metahdep.Rcheck Warnings: 1