Package: metahdep Version: 1.62.0 Command: /Library/Frameworks/R.framework/Resources/bin/R CMD build --keep-empty-dirs --no-resave-data metahdep StartedAt: 2024-10-16 20:40:31 -0400 (Wed, 16 Oct 2024) EndedAt: 2024-10-16 20:40:56 -0400 (Wed, 16 Oct 2024) EllapsedTime: 25.3 seconds RetCode: 0 Status: OK PackageFile: metahdep_1.62.0.tar.gz PackageFileSize: 551.1 KiB