Package: metahdep Version: 1.62.0 Command: rm -rf metahdep.buildbin-libdir && mkdir metahdep.buildbin-libdir && /Users/biocbuild/BBS/utils/build-universal.sh metahdep_1.62.0.tar.gz /Library/Frameworks/R.framework/Resources/bin/R metahdep.buildbin-libdir StartedAt: 2024-10-17 16:32:57 -0400 (Thu, 17 Oct 2024) EndedAt: 2024-10-17 16:33:08 -0400 (Thu, 17 Oct 2024) EllapsedTime: 11.9 seconds RetCode: 0 Status: OK PackageFile: metahdep_1.62.0.tgz PackageFileSize: 650 KiB