Package: metahdep Version: 1.62.0 Command: /Library/Frameworks/R.framework/Resources/bin/R CMD check --install=check:metahdep.install-out.txt --library=/Library/Frameworks/R.framework/Resources/library --no-vignettes --timings metahdep_1.62.0.tar.gz StartedAt: 2024-06-09 21:23:49 -0400 (Sun, 09 Jun 2024) EndedAt: 2024-06-09 21:24:28 -0400 (Sun, 09 Jun 2024) EllapsedTime: 38.7 seconds RetCode: 0 Status: WARNINGS CheckDir: metahdep.Rcheck Warnings: 1