Package: metahdep Version: 1.62.0 Command: /Library/Frameworks/R.framework/Resources/bin/R CMD build --keep-empty-dirs --no-resave-data metahdep StartedAt: 2024-06-09 17:11:46 -0400 (Sun, 09 Jun 2024) EndedAt: 2024-06-09 17:11:58 -0400 (Sun, 09 Jun 2024) EllapsedTime: 12.4 seconds RetCode: 0 Status: OK PackageFile: metahdep_1.62.0.tar.gz PackageFileSize: 550.7 KiB