Package: metahdep Version: 1.62.0 Command: /Library/Frameworks/R.framework/Resources/bin/R CMD check --install=check:metahdep.install-out.txt --library=/Library/Frameworks/R.framework/Resources/library --no-vignettes --timings metahdep_1.62.0.tar.gz StartedAt: 2024-06-10 21:11:59 -0400 (Mon, 10 Jun 2024) EndedAt: 2024-06-10 21:13:00 -0400 (Mon, 10 Jun 2024) EllapsedTime: 60.8 seconds RetCode: 0 Status: WARNINGS CheckDir: metahdep.Rcheck Warnings: 1