Package: metahdep Version: 1.62.0 Command: /Library/Frameworks/R.framework/Resources/bin/R CMD build --keep-empty-dirs --no-resave-data metahdep StartedAt: 2024-06-10 00:02:54 -0400 (Mon, 10 Jun 2024) EndedAt: 2024-06-10 00:03:17 -0400 (Mon, 10 Jun 2024) EllapsedTime: 23.0 seconds RetCode: 0 Status: OK PackageFile: metahdep_1.62.0.tar.gz PackageFileSize: 551 KiB