Package: metahdep Version: 1.62.0 Command: rm -rf metahdep.buildbin-libdir && mkdir metahdep.buildbin-libdir && /Users/biocbuild/BBS/utils/build-universal.sh metahdep_1.62.0.tar.gz /Library/Frameworks/R.framework/Resources/bin/R metahdep.buildbin-libdir StartedAt: 2024-06-11 11:57:58 -0400 (Tue, 11 Jun 2024) EndedAt: 2024-06-11 11:58:11 -0400 (Tue, 11 Jun 2024) EllapsedTime: 12.4 seconds RetCode: 0 Status: OK PackageFile: metahdep_1.62.0.tgz PackageFileSize: 648 KiB