Package: metagene2 Version: 1.20.0 Maintainer: Eric Fournier MaintainerEmail: ericfournier2 at yahoo.ca git_url: https://git.bioconductor.org/packages/metagene2 git_branch: RELEASE_3_19 git_last_commit: c5024c6 git_last_commit_date: 2024-04-30 11:14:43 -0400 (Tue, 30 Apr 2024)