Package: metabomxtr Version: 1.38.0 Command: rm -rf metabomxtr.buildbin-libdir && mkdir metabomxtr.buildbin-libdir && E:\biocbuild\bbs-3.19-bioc\R\bin\R.exe CMD INSTALL --build --library=metabomxtr.buildbin-libdir metabomxtr_1.38.0.tar.gz StartedAt: 2024-10-17 08:06:18 -0400 (Thu, 17 Oct 2024) EndedAt: 2024-10-17 08:06:41 -0400 (Thu, 17 Oct 2024) EllapsedTime: 22.9 seconds RetCode: 0 Status: OK PackageFile: metabomxtr_1.38.0.zip PackageFileSize: 435 KiB