Package: metabomxtr Version: 1.38.0 Command: /Library/Frameworks/R.framework/Resources/bin/R CMD build --keep-empty-dirs --no-resave-data metabomxtr StartedAt: 2024-10-16 20:39:13 -0400 (Wed, 16 Oct 2024) EndedAt: 2024-10-16 20:40:43 -0400 (Wed, 16 Oct 2024) EllapsedTime: 89.5 seconds RetCode: 0 Status: OK PackageFile: metabomxtr_1.38.0.tar.gz PackageFileSize: 558.8 KiB