Package: metabolomicsWorkbenchR Version: 1.14.2 Command: E:\biocbuild\bbs-3.19-bioc\R\bin\R.exe CMD INSTALL metabolomicsWorkbenchR StartedAt: 2024-10-16 16:23:01 -0400 (Wed, 16 Oct 2024) EndedAt: 2024-10-16 16:25:23 -0400 (Wed, 16 Oct 2024) EllapsedTime: 142.3 seconds RetCode: 0 Status: OK