Package: metabolomicsWorkbenchR Version: 1.14.2 Command: chmod a+r metabolomicsWorkbenchR -R && E:\biocbuild\bbs-3.19-bioc\R\bin\R.exe CMD build --keep-empty-dirs --no-resave-data metabolomicsWorkbenchR StartedAt: 2024-10-16 20:09:42 -0400 (Wed, 16 Oct 2024) EndedAt: 2024-10-16 20:10:49 -0400 (Wed, 16 Oct 2024) EllapsedTime: 66.3 seconds RetCode: 0 Status: OK PackageFile: metabolomicsWorkbenchR_1.14.2.tar.gz PackageFileSize: 2.317 MiB