Package: metabolomicsWorkbenchR Version: 1.14.2 Command: rm -rf metabolomicsWorkbenchR.buildbin-libdir && mkdir metabolomicsWorkbenchR.buildbin-libdir && E:\biocbuild\bbs-3.19-bioc\R\bin\R.exe CMD INSTALL --build --library=metabolomicsWorkbenchR.buildbin-libdir metabolomicsWorkbenchR_1.14.2.tar.gz StartedAt: 2024-10-17 08:06:16 -0400 (Thu, 17 Oct 2024) EndedAt: 2024-10-17 08:08:01 -0400 (Thu, 17 Oct 2024) EllapsedTime: 105.6 seconds RetCode: 0 Status: OK PackageFile: metabolomicsWorkbenchR_1.14.2.zip PackageFileSize: 2.291 MiB