Package: metabolomicsWorkbenchR Version: 1.14.0 Command: F:\biocbuild\bbs-3.19-bioc\R\bin\R.exe CMD INSTALL metabolomicsWorkbenchR StartedAt: 2024-06-26 15:53:27 -0400 (Wed, 26 Jun 2024) EndedAt: 2024-06-26 15:54:09 -0400 (Wed, 26 Jun 2024) EllapsedTime: 42.0 seconds RetCode: 0 Status: OK