Package: metabolomicsWorkbenchR Version: 1.14.0 Command: rm -rf metabolomicsWorkbenchR.buildbin-libdir && mkdir metabolomicsWorkbenchR.buildbin-libdir && F:\biocbuild\bbs-3.19-bioc\R\bin\R.exe CMD INSTALL --build --library=metabolomicsWorkbenchR.buildbin-libdir metabolomicsWorkbenchR_1.14.0.tar.gz StartedAt: 2024-06-27 08:28:30 -0400 (Thu, 27 Jun 2024) EndedAt: 2024-06-27 08:29:12 -0400 (Thu, 27 Jun 2024) EllapsedTime: 42.2 seconds RetCode: 0 Status: OK PackageFile: metabolomicsWorkbenchR_1.14.0.zip PackageFileSize: 2.29 MiB