Package: metabolomicsWorkbenchR Version: 1.14.2 Command: /Library/Frameworks/R.framework/Resources/bin/R CMD build --keep-empty-dirs --no-resave-data metabolomicsWorkbenchR StartedAt: 2024-10-16 20:39:06 -0400 (Wed, 16 Oct 2024) EndedAt: 2024-10-16 20:41:22 -0400 (Wed, 16 Oct 2024) EllapsedTime: 136.9 seconds RetCode: 0 Status: OK PackageFile: metabolomicsWorkbenchR_1.14.2.tar.gz PackageFileSize: 2.399 MiB