Package: metabolomicsWorkbenchR Version: 1.14.2 Command: /Library/Frameworks/R.framework/Resources/bin/R CMD INSTALL metabolomicsWorkbenchR StartedAt: 2024-10-16 15:59:07 -0400 (Wed, 16 Oct 2024) EndedAt: 2024-10-16 15:59:46 -0400 (Wed, 16 Oct 2024) EllapsedTime: 39.8 seconds RetCode: 0 Status: OK