Package: metabolomicsWorkbenchR Version: 1.14.2 Command: /Library/Frameworks/R.framework/Resources/bin/R CMD check --install=check:metabolomicsWorkbenchR.install-out.txt --library=/Library/Frameworks/R.framework/Resources/library --no-vignettes --timings metabolomicsWorkbenchR_1.14.2.tar.gz StartedAt: 2024-10-18 03:07:30 -0400 (Fri, 18 Oct 2024) EndedAt: 2024-10-18 03:11:07 -0400 (Fri, 18 Oct 2024) EllapsedTime: 216.2 seconds RetCode: 0 Status: OK CheckDir: metabolomicsWorkbenchR.Rcheck Warnings: 0