Package: metabolomicsWorkbenchR Version: 1.14.2 Command: /Library/Frameworks/R.framework/Resources/bin/R CMD build --keep-empty-dirs --no-resave-data metabolomicsWorkbenchR StartedAt: 2024-10-17 03:47:48 -0400 (Thu, 17 Oct 2024) EndedAt: 2024-10-17 03:48:58 -0400 (Thu, 17 Oct 2024) EllapsedTime: 69.6 seconds RetCode: 0 Status: OK PackageFile: metabolomicsWorkbenchR_1.14.2.tar.gz PackageFileSize: 2.399 MiB