Package: metabCombiner Version: 1.14.0 Command: rm -rf metabCombiner.buildbin-libdir && mkdir metabCombiner.buildbin-libdir && F:\biocbuild\bbs-3.19-bioc\R\bin\R.exe CMD INSTALL --build --library=metabCombiner.buildbin-libdir metabCombiner_1.14.0.tar.gz StartedAt: 2024-06-27 08:28:22 -0400 (Thu, 27 Jun 2024) EndedAt: 2024-06-27 08:29:05 -0400 (Thu, 27 Jun 2024) EllapsedTime: 42.7 seconds RetCode: 0 Status: OK PackageFile: metabCombiner_1.14.0.zip PackageFileSize: 2.866 MiB