Package: metaMS Version: 1.40.0 Command: E:\biocbuild\bbs-3.19-bioc\R\bin\R.exe CMD INSTALL metaMS StartedAt: 2024-10-16 17:01:11 -0400 (Wed, 16 Oct 2024) EndedAt: 2024-10-16 17:02:12 -0400 (Wed, 16 Oct 2024) EllapsedTime: 60.8 seconds RetCode: 0 Status: OK