Package: metaMS Version: 1.40.0 Command: rm -rf metaMS.buildbin-libdir && mkdir metaMS.buildbin-libdir && F:\biocbuild\bbs-3.19-bioc\R\bin\R.exe CMD INSTALL --build --library=metaMS.buildbin-libdir metaMS_1.40.0.tar.gz StartedAt: 2024-06-27 08:28:47 -0400 (Thu, 27 Jun 2024) EndedAt: 2024-06-27 08:29:44 -0400 (Thu, 27 Jun 2024) EllapsedTime: 57.6 seconds RetCode: 0 Status: OK PackageFile: metaMS_1.40.0.zip PackageFileSize: 4.032 MiB