Package: metaMS Version: 1.40.0 Command: /home/biocbuild/bbs-3.19-bioc/R/bin/R CMD INSTALL metaMS StartedAt: 2024-10-16 16:25:55 -0400 (Wed, 16 Oct 2024) EndedAt: 2024-10-16 16:26:39 -0400 (Wed, 16 Oct 2024) EllapsedTime: 44.3 seconds RetCode: 0 Status: OK