Package: metaCCA Version: 1.32.0 Command: /Library/Frameworks/R.framework/Resources/bin/R CMD build --keep-empty-dirs --no-resave-data metaCCA StartedAt: 2024-10-16 20:39:59 -0400 (Wed, 16 Oct 2024) EndedAt: 2024-10-16 20:40:31 -0400 (Wed, 16 Oct 2024) EllapsedTime: 31.8 seconds RetCode: 0 Status: OK PackageFile: metaCCA_1.32.0.tar.gz PackageFileSize: 924.2 KiB