Package: metaCCA Version: 1.32.0 Command: /Library/Frameworks/R.framework/Resources/bin/R CMD INSTALL metaCCA StartedAt: 2024-10-16 17:46:08 -0400 (Wed, 16 Oct 2024) EndedAt: 2024-10-16 17:46:11 -0400 (Wed, 16 Oct 2024) EllapsedTime: 2.9 seconds RetCode: 0 Status: OK