Package: messina Version: 1.40.0 Command: /Library/Frameworks/R.framework/Resources/bin/R CMD check --install=check:messina.install-out.txt --library=/Library/Frameworks/R.framework/Resources/library --no-vignettes --timings messina_1.40.0.tar.gz StartedAt: 2024-10-17 07:53:13 -0400 (Thu, 17 Oct 2024) EndedAt: 2024-10-17 08:01:04 -0400 (Thu, 17 Oct 2024) EllapsedTime: 471.5 seconds RetCode: 0 Status: OK CheckDir: messina.Rcheck Warnings: 0