Package: meshr Version: 2.10.0 Command: E:\biocbuild\bbs-3.19-bioc\R\bin\R.exe CMD check --no-multiarch --install=check:meshr.install-out.txt --library=E:\biocbuild\bbs-3.19-bioc\R\library --no-vignettes --timings meshr_2.10.0.tar.gz StartedAt: 2024-10-17 03:03:17 -0400 (Thu, 17 Oct 2024) EndedAt: 2024-10-17 03:05:47 -0400 (Thu, 17 Oct 2024) EllapsedTime: 149.9 seconds RetCode: 0 Status: OK CheckDir: meshr.Rcheck Warnings: 0