Package: meshr Version: 2.10.0 Command: chmod a+r meshr -R && E:\biocbuild\bbs-3.19-bioc\R\bin\R.exe CMD build --keep-empty-dirs --no-resave-data meshr StartedAt: 2024-10-16 20:09:07 -0400 (Wed, 16 Oct 2024) EndedAt: 2024-10-16 20:09:43 -0400 (Wed, 16 Oct 2024) EllapsedTime: 36.4 seconds RetCode: 0 Status: OK PackageFile: meshr_2.10.0.tar.gz PackageFileSize: 1002 KiB