Package: meshr Version: 2.10.0 Command: rm -rf meshr.buildbin-libdir && mkdir meshr.buildbin-libdir && E:\biocbuild\bbs-3.19-bioc\R\bin\R.exe CMD INSTALL --build --library=meshr.buildbin-libdir meshr_2.10.0.tar.gz StartedAt: 2024-10-17 08:06:04 -0400 (Thu, 17 Oct 2024) EndedAt: 2024-10-17 08:06:47 -0400 (Thu, 17 Oct 2024) EllapsedTime: 43.0 seconds RetCode: 0 Status: OK PackageFile: meshr_2.10.0.zip PackageFileSize: 931.1 KiB