Package: meshr Version: 2.10.0 Command: F:\biocbuild\bbs-3.19-bioc\R\bin\R.exe CMD check --no-multiarch --install=check:meshr.install-out.txt --library=F:\biocbuild\bbs-3.19-bioc\R\library --no-vignettes --timings meshr_2.10.0.tar.gz StartedAt: 2024-06-27 03:21:16 -0400 (Thu, 27 Jun 2024) EndedAt: 2024-06-27 03:23:57 -0400 (Thu, 27 Jun 2024) EllapsedTime: 160.2 seconds RetCode: 0 Status: OK CheckDir: meshr.Rcheck Warnings: 0