Package: meshr Version: 2.10.0 Command: chmod a+r meshr -R && F:\biocbuild\bbs-3.19-bioc\R\bin\R.exe CMD build --keep-empty-dirs --no-resave-data meshr StartedAt: 2024-06-26 19:54:18 -0400 (Wed, 26 Jun 2024) EndedAt: 2024-06-26 19:54:55 -0400 (Wed, 26 Jun 2024) EllapsedTime: 36.4 seconds RetCode: 0 Status: OK PackageFile: meshr_2.10.0.tar.gz PackageFileSize: 1002 KiB