Package: meshr Version: 2.10.0 Command: /home/biocbuild/bbs-3.19-bioc/R/bin/R CMD build --keep-empty-dirs --no-resave-data meshr StartedAt: 2024-10-16 19:20:25 -0400 (Wed, 16 Oct 2024) EndedAt: 2024-10-16 19:20:49 -0400 (Wed, 16 Oct 2024) EllapsedTime: 24.1 seconds RetCode: 0 Status: OK PackageFile: meshr_2.10.0.tar.gz PackageFileSize: 1002 KiB